BEGIN:VCALENDAR
VERSION:2.0
PRODID:-//NKC 72 - Neuköllner Kegel Club von 1972 e.V.//NONSGML kigkonsult.
 se iCalcreator 2.16.12//
METHOD:PUBLISH
X-MS-OLK-FORCEINSPECTOROPEN:TRUE
BEGIN:VEVENT
UID:20260424T044843CEST-1730f4wI24@NKC 72 - Neuköllner Kegel Club von 1972 
 e.V.
DTSTAMP:20260424T024843Z
DESCRIPTION:
DTSTART:20250130T180000
DTEND:20250130T210000
LOCATION:Kegelsporthalle Völkerfreundschaft
ORGANIZER:MAILTO:NKC 72 - Neuköllner Kegel Club von 1972 e.V. <joerg.gloede
 @web.de>
SUMMARY:Clublauf Völkerfreundschaft
END:VEVENT
END:VCALENDAR
